BEGIN:VCALENDAR
VERSION:2.0
PRODID:-//Sociedad de Criadores de Caballos Criollos en Uruguay - ECPv6.15.20//NONSGML v1.0//EN
CALSCALE:GREGORIAN
METHOD:PUBLISH
X-WR-CALNAME:Sociedad de Criadores de Caballos Criollos en Uruguay
X-ORIGINAL-URL:https://caballoscriollos.com.uy
X-WR-CALDESC:Eventos para Sociedad de Criadores de Caballos Criollos en Uruguay
REFRESH-INTERVAL;VALUE=DURATION:PT1H
X-Robots-Tag:noindex
X-PUBLISHED-TTL:PT1H
BEGIN:VTIMEZONE
TZID:America/Montevideo
BEGIN:STANDARD
TZOFFSETFROM:-0300
TZOFFSETTO:-0300
TZNAME:-03
DTSTART:20250101T000000
END:STANDARD
END:VTIMEZONE
BEGIN:VEVENT
DTSTART;VALUE=DATE:20260424
DTEND;VALUE=DATE:20260427
DTSTAMP:20260424T143656
CREATED:20260119T172105Z
LAST-MODIFIED:20260119T172105Z
UID:18382-1776988800-1777247999@caballoscriollos.com.uy
SUMMARY:2a. Fecha Campeonato Nacional de Marchitas | Cerro Largo
DESCRIPTION:
URL:https://caballoscriollos.com.uy/evento/2a-fecha-campeonato-nacional-de-marchitas-cerro-largo/
CATEGORIES:Marchita
END:VEVENT
END:VCALENDAR