BEGIN:VCALENDAR
VERSION:2.0
PRODID:-//Sociedad de Criadores de Caballos Criollos en Uruguay - ECPv6.15.20//NONSGML v1.0//EN
CALSCALE:GREGORIAN
METHOD:PUBLISH
X-ORIGINAL-URL:https://caballoscriollos.com.uy
X-WR-CALDESC:Eventos para Sociedad de Criadores de Caballos Criollos en Uruguay
REFRESH-INTERVAL;VALUE=DURATION:PT1H
X-Robots-Tag:noindex
X-PUBLISHED-TTL:PT1H
BEGIN:VTIMEZONE
TZID:America/Montevideo
BEGIN:STANDARD
TZOFFSETFROM:-0300
TZOFFSETTO:-0300
TZNAME:-03
DTSTART:20250101T000000
END:STANDARD
END:VTIMEZONE
BEGIN:VEVENT
DTSTART;VALUE=DATE:20260320
DTEND;VALUE=DATE:20260321
DTSTAMP:20260424T175525
CREATED:20260120T153010Z
LAST-MODIFIED:20260120T153010Z
UID:18398-1773964800-1774051199@caballoscriollos.com.uy
SUMMARY:Expo Tempranito y Aparte Campero | Soriano
DESCRIPTION:
URL:https://caballoscriollos.com.uy/evento/expo-tempranito-y-aparte-campero-soriano/
CATEGORIES:Exposiciones
END:VEVENT
END:VCALENDAR