BEGIN:VCALENDAR
VERSION:2.0
PRODID:-//Sociedad de Criadores de Caballos Criollos en Uruguay - ECPv6.15.20//NONSGML v1.0//EN
CALSCALE:GREGORIAN
METHOD:PUBLISH
X-WR-CALNAME:Sociedad de Criadores de Caballos Criollos en Uruguay
X-ORIGINAL-URL:https://caballoscriollos.com.uy
X-WR-CALDESC:Eventos para Sociedad de Criadores de Caballos Criollos en Uruguay
REFRESH-INTERVAL;VALUE=DURATION:PT1H
X-Robots-Tag:noindex
X-PUBLISHED-TTL:PT1H
BEGIN:VTIMEZONE
TZID:America/Montevideo
BEGIN:STANDARD
TZOFFSETFROM:-0300
TZOFFSETTO:-0300
TZNAME:-03
DTSTART:20250101T000000
END:STANDARD
END:VTIMEZONE
BEGIN:VEVENT
DTSTART;VALUE=DATE:20260617
DTEND;VALUE=DATE:20260622
DTSTAMP:20260424T175127
CREATED:20251022T125914Z
LAST-MODIFIED:20251204T183626Z
UID:18029-1781654400-1782086399@caballoscriollos.com.uy
SUMMARY:Expo Otoño 2026 | Sierra Serena\, Maldonado
DESCRIPTION:
URL:https://caballoscriollos.com.uy/evento/expo-otono-2026/
CATEGORIES:Exposiciones,Morfología
END:VEVENT
END:VCALENDAR