BEGIN:VCALENDAR
VERSION:2.0
PRODID:-//Sociedad de Criadores de Caballos Criollos en Uruguay - ECPv6.15.20//NONSGML v1.0//EN
CALSCALE:GREGORIAN
METHOD:PUBLISH
X-WR-CALNAME:Sociedad de Criadores de Caballos Criollos en Uruguay
X-ORIGINAL-URL:https://caballoscriollos.com.uy
X-WR-CALDESC:Eventos para Sociedad de Criadores de Caballos Criollos en Uruguay
REFRESH-INTERVAL;VALUE=DURATION:PT1H
X-Robots-Tag:noindex
X-PUBLISHED-TTL:PT1H
BEGIN:VTIMEZONE
TZID:America/Montevideo
BEGIN:STANDARD
TZOFFSETFROM:-0300
TZOFFSETTO:-0300
TZNAME:-03
DTSTART:20250101T000000
END:STANDARD
END:VTIMEZONE
BEGIN:VEVENT
DTSTART;VALUE=DATE:20260216
DTEND;VALUE=DATE:20260217
DTSTAMP:20260424T161654
CREATED:20251024T150554Z
LAST-MODIFIED:20251024T150841Z
UID:18033-1771200000-1771286399@caballoscriollos.com.uy
SUMMARY:Clasificación FICCC Felipe Z. Ballester | Maldonado
DESCRIPTION:
URL:https://caballoscriollos.com.uy/evento/clasificacion-ficcc-felipe-z-ballester-maldonado/
CATEGORIES:FICCC
END:VEVENT
END:VCALENDAR