BEGIN:VCALENDAR
VERSION:2.0
PRODID:-//Sociedad de Criadores de Caballos Criollos en Uruguay - ECPv6.15.20//NONSGML v1.0//EN
CALSCALE:GREGORIAN
METHOD:PUBLISH
X-ORIGINAL-URL:https://caballoscriollos.com.uy
X-WR-CALDESC:Eventos para Sociedad de Criadores de Caballos Criollos en Uruguay
REFRESH-INTERVAL;VALUE=DURATION:PT1H
X-Robots-Tag:noindex
X-PUBLISHED-TTL:PT1H
BEGIN:VTIMEZONE
TZID:America/Montevideo
BEGIN:STANDARD
TZOFFSETFROM:-0300
TZOFFSETTO:-0300
TZNAME:-03
DTSTART:20250101T000000
END:STANDARD
END:VTIMEZONE
BEGIN:VEVENT
DTSTART;VALUE=DATE:20260524
DTEND;VALUE=DATE:20260608
DTSTAMP:20260424T162447
CREATED:20250930T171718Z
LAST-MODIFIED:20251222T152620Z
UID:17963-1779580800-1780876799@caballoscriollos.com.uy
SUMMARY:Marcha Funcional 2026 y Marcha FICCC | Melo
DESCRIPTION:
URL:https://caballoscriollos.com.uy/evento/marcha-funcional-2026-melo/
CATEGORIES:Marcha
END:VEVENT
END:VCALENDAR